BEGIN:VCALENDAR
VERSION:2.0
PRODID:-//New Generation Prep - ECPv6.9.1//NONSGML v1.0//EN
CALSCALE:GREGORIAN
METHOD:PUBLISH
X-WR-CALNAME:New Generation Prep
X-ORIGINAL-URL:https://newgenerationprep.com
X-WR-CALDESC:Events for New Generation Prep
REFRESH-INTERVAL;VALUE=DURATION:PT1H
X-Robots-Tag:noindex
X-PUBLISHED-TTL:PT1H
BEGIN:VTIMEZONE
TZID:America/Los_Angeles
BEGIN:DAYLIGHT
TZOFFSETFROM:-0800
TZOFFSETTO:-0700
TZNAME:PDT
DTSTART:20230312T100000
END:DAYLIGHT
BEGIN:STANDARD
TZOFFSETFROM:-0700
TZOFFSETTO:-0800
TZNAME:PST
DTSTART:20231105T090000
END:STANDARD
END:VTIMEZONE
BEGIN:VEVENT
DTSTART;VALUE=DATE:20230904
DTEND;VALUE=DATE:20230905
DTSTAMP:20260420T203504
CREATED:20230403T235956Z
LAST-MODIFIED:20230404T000048Z
UID:8158-1693785600-1693871999@newgenerationprep.com
SUMMARY:No School- Labor Day
DESCRIPTION:
URL:https://newgenerationprep.com/event/no-school-labor-day/
END:VEVENT
BEGIN:VEVENT
DTSTART;VALUE=DATE:20230905
DTEND;VALUE=DATE:20230906
DTSTAMP:20260420T203504
CREATED:20230404T000633Z
LAST-MODIFIED:20230404T000633Z
UID:8171-1693872000-1693958399@newgenerationprep.com
SUMMARY:Fall Session Starts
DESCRIPTION:
URL:https://newgenerationprep.com/event/fall-session-starts/
END:VEVENT
BEGIN:VEVENT
DTSTART;TZID=America/Los_Angeles:20230913T093000
DTEND;TZID=America/Los_Angeles:20230913T103000
DTSTAMP:20260420T203504
CREATED:20230825T230501Z
LAST-MODIFIED:20230825T230501Z
UID:8327-1694597400-1694601000@newgenerationprep.com
SUMMARY:Soccer- Fall Session Starts
DESCRIPTION:
URL:https://newgenerationprep.com/event/soccer-fall-session-starts/
END:VEVENT
BEGIN:VEVENT
DTSTART;TZID=America/Los_Angeles:20230915T100000
DTEND;TZID=America/Los_Angeles:20230915T110000
DTSTAMP:20260420T203504
CREATED:20230825T225838Z
LAST-MODIFIED:20230825T225838Z
UID:8319-1694772000-1694775600@newgenerationprep.com
SUMMARY:Yoga- Fall Session Starts
DESCRIPTION:
URL:https://newgenerationprep.com/event/yoga-fall-session-starts/
END:VEVENT
BEGIN:VEVENT
DTSTART;TZID=America/Los_Angeles:20230921T093000
DTEND;TZID=America/Los_Angeles:20230921T103000
DTSTAMP:20260420T203504
CREATED:20230825T225705Z
LAST-MODIFIED:20230825T225723Z
UID:8314-1695288600-1695292200@newgenerationprep.com
SUMMARY:Karate- Fall Session Starts
DESCRIPTION:
URL:https://newgenerationprep.com/event/karate-fall-session/
END:VEVENT
END:VCALENDAR