BEGIN:VCALENDAR
VERSION:2.0
PRODID:-//New Generation Prep - ECPv6.9.1//NONSGML v1.0//EN
CALSCALE:GREGORIAN
METHOD:PUBLISH
X-WR-CALNAME:New Generation Prep
X-ORIGINAL-URL:https://newgenerationprep.com
X-WR-CALDESC:Events for New Generation Prep
REFRESH-INTERVAL;VALUE=DURATION:PT1H
X-Robots-Tag:noindex
X-PUBLISHED-TTL:PT1H
BEGIN:VTIMEZONE
TZID:America/Los_Angeles
BEGIN:DAYLIGHT
TZOFFSETFROM:-0800
TZOFFSETTO:-0700
TZNAME:PDT
DTSTART:20180311T100000
END:DAYLIGHT
BEGIN:STANDARD
TZOFFSETFROM:-0700
TZOFFSETTO:-0800
TZNAME:PST
DTSTART:20181104T090000
END:STANDARD
END:VTIMEZONE
BEGIN:VEVENT
DTSTART;TZID=America/Los_Angeles:20181214T100000
DTEND;TZID=America/Los_Angeles:20181214T110000
DTSTAMP:20260419T104151
CREATED:20181115T195003Z
LAST-MODIFIED:20181115T195003Z
UID:7861-1544781600-1544785200@newgenerationprep.com
SUMMARY:Holiday Program at 10 am
DESCRIPTION:
URL:https://newgenerationprep.com/event/holiday-program-at-10-am/
END:VEVENT
BEGIN:VEVENT
DTSTART;VALUE=DATE:20181214
DTEND;VALUE=DATE:20181215
DTSTAMP:20260419T104151
CREATED:20181130T192855Z
LAST-MODIFIED:20181130T192855Z
UID:7874-1544745600-1544831999@newgenerationprep.com
SUMMARY:Holiday Program Colors
DESCRIPTION:Please have your child wear red\, green or white for the Holiday Show!
URL:https://newgenerationprep.com/event/holiday-program-colors/
END:VEVENT
BEGIN:VEVENT
DTSTART;VALUE=DATE:20181205
DTEND;VALUE=DATE:20181206
DTSTAMP:20260419T104151
CREATED:20181130T192757Z
LAST-MODIFIED:20181130T192757Z
UID:7872-1543968000-1544054399@newgenerationprep.com
SUMMARY:Picture Day Photos Due
DESCRIPTION:Please keep the pictures you want and return any unwanted photos in the office. You can pay via cash\, check or online. If you pay online\, please give us the confirmation code.
URL:https://newgenerationprep.com/event/picture-day-photos-due/
END:VEVENT
BEGIN:VEVENT
DTSTART;TZID=America/Los_Angeles:20181127T080000
DTEND;TZID=America/Los_Angeles:20181213T170000
DTSTAMP:20260419T104151
CREATED:20181130T193014Z
LAST-MODIFIED:20181130T193014Z
UID:7876-1543305600-1544720400@newgenerationprep.com
SUMMARY:Toy Drive
DESCRIPTION:We are collecting toys and clothing for the BTAC\, for children in need.
URL:https://newgenerationprep.com/event/toy-drive/
END:VEVENT
BEGIN:VEVENT
DTSTART;TZID=America/Los_Angeles:20181123T070000
DTEND;TZID=America/Los_Angeles:20181123T180000
DTSTAMP:20260419T104151
CREATED:20181115T193753Z
LAST-MODIFIED:20181115T193753Z
UID:7857-1542956400-1542996000@newgenerationprep.com
SUMMARY:No School
DESCRIPTION:
URL:https://newgenerationprep.com/event/no-school/
END:VEVENT
BEGIN:VEVENT
DTSTART;TZID=America/Los_Angeles:20181122T070000
DTEND;TZID=America/Los_Angeles:20181122T180000
DTSTAMP:20260419T104151
CREATED:20181115T193704Z
LAST-MODIFIED:20181115T193704Z
UID:7855-1542870000-1542909600@newgenerationprep.com
SUMMARY:Thanksgiving- No School
DESCRIPTION:
URL:https://newgenerationprep.com/event/thanksgiving-no-school/
END:VEVENT
BEGIN:VEVENT
DTSTART;TZID=America/Los_Angeles:20181121T100000
DTEND;TZID=America/Los_Angeles:20181121T120000
DTSTAMP:20260419T104151
CREATED:20181109T000232Z
LAST-MODIFIED:20181109T000329Z
UID:7840-1542794400-1542801600@newgenerationprep.com
SUMMARY:Thanksgiving Potluck
DESCRIPTION:Thanksgiving feast. This event is for the children only.
URL:https://newgenerationprep.com/event/thanksgiving-potluck/
END:VEVENT
BEGIN:VEVENT
DTSTART;TZID=America/Los_Angeles:20181121T070000
DTEND;TZID=America/Los_Angeles:20181121T120000
DTSTAMP:20260419T104151
CREATED:20181115T193525Z
LAST-MODIFIED:20181115T193525Z
UID:7853-1542783600-1542801600@newgenerationprep.com
SUMMARY:School Closes at 12:00 pm
DESCRIPTION:
URL:https://newgenerationprep.com/event/school-closes-at-1200-pm/
END:VEVENT
END:VCALENDAR