BEGIN:VCALENDAR
VERSION:2.0
PRODID:-//New Generation Prep - ECPv6.9.1//NONSGML v1.0//EN
CALSCALE:GREGORIAN
METHOD:PUBLISH
X-ORIGINAL-URL:https://newgenerationprep.com
X-WR-CALDESC:Events for New Generation Prep
REFRESH-INTERVAL;VALUE=DURATION:PT1H
X-Robots-Tag:noindex
X-PUBLISHED-TTL:PT1H
BEGIN:VTIMEZONE
TZID:America/Los_Angeles
BEGIN:DAYLIGHT
TZOFFSETFROM:-0800
TZOFFSETTO:-0700
TZNAME:PDT
DTSTART:20230312T100000
END:DAYLIGHT
BEGIN:STANDARD
TZOFFSETFROM:-0700
TZOFFSETTO:-0800
TZNAME:PST
DTSTART:20231105T090000
END:STANDARD
END:VTIMEZONE
BEGIN:VEVENT
DTSTART;VALUE=DATE:20231123
DTEND;VALUE=DATE:20231127
DTSTAMP:20260420T185648
CREATED:20230404T000354Z
LAST-MODIFIED:20231026T212706Z
UID:8164-1700697600-1701043199@newgenerationprep.com
SUMMARY:No School- Thanksgiving Break
DESCRIPTION:
URL:https://newgenerationprep.com/event/no-school-thanksgiving-break/
END:VEVENT
END:VCALENDAR