BEGIN:VCALENDAR
VERSION:2.0
PRODID:-//New Generation Prep - ECPv6.9.1//NONSGML v1.0//EN
CALSCALE:GREGORIAN
METHOD:PUBLISH
X-ORIGINAL-URL:https://newgenerationprep.com
X-WR-CALDESC:Events for New Generation Prep
REFRESH-INTERVAL;VALUE=DURATION:PT1H
X-Robots-Tag:noindex
X-PUBLISHED-TTL:PT1H
BEGIN:VTIMEZONE
TZID:America/Los_Angeles
BEGIN:DAYLIGHT
TZOFFSETFROM:-0800
TZOFFSETTO:-0700
TZNAME:PDT
DTSTART:20230312T100000
END:DAYLIGHT
BEGIN:STANDARD
TZOFFSETFROM:-0700
TZOFFSETTO:-0800
TZNAME:PST
DTSTART:20231105T090000
END:STANDARD
END:VTIMEZONE
BEGIN:VEVENT
DTSTART;VALUE=DATE:20230804
DTEND;VALUE=DATE:20230805
DTSTAMP:20260421T000232
CREATED:20230612T223803Z
LAST-MODIFIED:20230612T223803Z
UID:8256-1691107200-1691193599@newgenerationprep.com
SUMMARY:Hawaiian Luau
DESCRIPTION:
URL:https://newgenerationprep.com/event/hawaiian-luau/
END:VEVENT
BEGIN:VEVENT
DTSTART;TZID=America/Los_Angeles:20230804T170000
DTEND;TZID=America/Los_Angeles:20230804T170000
DTSTAMP:20260421T000232
CREATED:20230612T221008Z
LAST-MODIFIED:20230612T221008Z
UID:8209-1691168400-1691168400@newgenerationprep.com
SUMMARY:Last Day of Summer Program
DESCRIPTION:
URL:https://newgenerationprep.com/event/last-day-of-summer-program/
END:VEVENT
END:VCALENDAR