BEGIN:VCALENDAR
VERSION:2.0
PRODID:-//New Generation Prep - ECPv6.9.1//NONSGML v1.0//EN
CALSCALE:GREGORIAN
METHOD:PUBLISH
X-ORIGINAL-URL:https://newgenerationprep.com
X-WR-CALDESC:Events for New Generation Prep
REFRESH-INTERVAL;VALUE=DURATION:PT1H
X-Robots-Tag:noindex
X-PUBLISHED-TTL:PT1H
BEGIN:VTIMEZONE
TZID:America/Los_Angeles
BEGIN:DAYLIGHT
TZOFFSETFROM:-0800
TZOFFSETTO:-0700
TZNAME:PDT
DTSTART:20230312T100000
END:DAYLIGHT
BEGIN:STANDARD
TZOFFSETFROM:-0700
TZOFFSETTO:-0800
TZNAME:PST
DTSTART:20231105T090000
END:STANDARD
END:VTIMEZONE
BEGIN:VEVENT
DTSTART;VALUE=DATE:20230703
DTEND;VALUE=DATE:20230704
DTSTAMP:20260421T050550
CREATED:20230601T183632Z
LAST-MODIFIED:20230601T183632Z
UID:8187-1688342400-1688428799@newgenerationprep.com
SUMMARY:No School- 4th of July Celebration
DESCRIPTION:
URL:https://newgenerationprep.com/event/no-school-4th-of-july-celebration/
END:VEVENT
END:VCALENDAR